BEGIN:VCALENDAR
VERSION:2.0
PRODID:-//Sabre//Sabre VObject 4.5.8//EN
CALSCALE:GREGORIAN
BEGIN:VEVENT
UID:sabre-vobject-d2ab0f76-306a-4a9e-a9fc-dcba39181b4a
DTSTAMP:20260420T061036Z
SUMMARY:Wochenmarkt
DESCRIPTION:https://regioningolstadt.com/wochenmarkt_id43403
DTSTART;TZID=Europe/Berlin:20260919T063000
DTEND;TZID=Europe/Berlin:20260919T123000
LOCATION:Schrannenplatz\, Schrannenplatz\, 86633 Neuburg an der Donau
END:VEVENT
END:VCALENDAR
