BEGIN:VCALENDAR
VERSION:2.0
PRODID:-//Sabre//Sabre VObject 4.5.8//EN
CALSCALE:GREGORIAN
BEGIN:VEVENT
UID:sabre-vobject-39043f27-abeb-4efa-83d0-0d7535f869e3
DTSTAMP:20260420T130558Z
SUMMARY:Wochenmarkt
DESCRIPTION:https://regioningolstadt.com/wochenmarkt_id43398
DTSTART;TZID=Europe/Berlin:20260814T063000
DTEND;TZID=Europe/Berlin:20260814T123000
LOCATION:Schrannenplatz\, Schrannenplatz\, 86633 Neuburg an der Donau
END:VEVENT
END:VCALENDAR
