BEGIN:VCALENDAR
VERSION:2.0
PRODID:-//Sabre//Sabre VObject 4.5.8//EN
CALSCALE:GREGORIAN
BEGIN:VEVENT
UID:sabre-vobject-83f95741-7581-42ee-b2ee-fb10b1aa0131
DTSTAMP:20260422T122416Z
SUMMARY:Wochenmarkt
DESCRIPTION:https://regioningolstadt.com/wochenmarkt_id43396
DTSTART;TZID=Europe/Berlin:20260801T063000
DTEND;TZID=Europe/Berlin:20260801T123000
LOCATION:Schrannenplatz\, Schrannenplatz\, 86633 Neuburg an der Donau
END:VEVENT
END:VCALENDAR
