BEGIN:VCALENDAR
VERSION:2.0
PRODID:-//Sabre//Sabre VObject 4.5.8//EN
CALSCALE:GREGORIAN
BEGIN:VEVENT
UID:sabre-vobject-a7f4b8e5-6d0f-443b-8306-1eb9b9f8f32a
DTSTAMP:20260422T081844Z
SUMMARY:Wochenmarkt
DESCRIPTION:https://regioningolstadt.com/wochenmarkt_id43393
DTSTART;TZID=Europe/Berlin:20260711T063000
DTEND;TZID=Europe/Berlin:20260711T123000
LOCATION:Schrannenplatz\, Schrannenplatz\, 86633 Neuburg an der Donau
END:VEVENT
END:VCALENDAR
