BEGIN:VCALENDAR
VERSION:2.0
PRODID:-//Sabre//Sabre VObject 4.5.8//EN
CALSCALE:GREGORIAN
BEGIN:VEVENT
UID:sabre-vobject-b358d151-92ea-4ff7-ad94-a15354c75cf9
DTSTAMP:20260421T145629Z
SUMMARY:Wochenmarkt
DESCRIPTION:https://regioningolstadt.com/wochenmarkt_id43386
DTSTART;TZID=Europe/Berlin:20260523T063000
DTEND;TZID=Europe/Berlin:20260523T123000
LOCATION:Schrannenplatz\, Schrannenplatz\, 86633 Neuburg an der Donau
END:VEVENT
END:VCALENDAR
