BEGIN:VCALENDAR
VERSION:2.0
PRODID:-//Sabre//Sabre VObject 4.5.8//EN
CALSCALE:GREGORIAN
BEGIN:VEVENT
UID:sabre-vobject-05625fb7-640a-4ab2-8eea-eac94b7ed222
DTSTAMP:20260419T201154Z
SUMMARY:Wochenmarkt
DESCRIPTION:https://regioningolstadt.com/wochenmarkt_id43363
DTSTART;TZID=Europe/Berlin:20261216T063000
DTEND;TZID=Europe/Berlin:20261216T123000
LOCATION:Schrannenplatz\, Schrannenplatz\, 86633 Neuburg an der Donau
END:VEVENT
END:VCALENDAR
