BEGIN:VCALENDAR
VERSION:2.0
PRODID:-//Sabre//Sabre VObject 4.5.8//EN
CALSCALE:GREGORIAN
BEGIN:VEVENT
UID:sabre-vobject-84f14cfe-cfc1-4e2a-bf05-b519677bac37
DTSTAMP:20260419T201204Z
SUMMARY:Wochenmarkt
DESCRIPTION:https://regioningolstadt.com/wochenmarkt_id43362
DTSTART;TZID=Europe/Berlin:20261209T063000
DTEND;TZID=Europe/Berlin:20261209T123000
LOCATION:Schrannenplatz\, Schrannenplatz\, 86633 Neuburg an der Donau
END:VEVENT
END:VCALENDAR
