BEGIN:VCALENDAR
VERSION:2.0
PRODID:-//Sabre//Sabre VObject 4.5.8//EN
CALSCALE:GREGORIAN
BEGIN:VEVENT
UID:sabre-vobject-a32eece9-deb4-4afa-9f67-142f51cfc24f
DTSTAMP:20260419T152605Z
SUMMARY:Wochenmarkt
DESCRIPTION:https://regioningolstadt.com/wochenmarkt_id43359
DTSTART;TZID=Europe/Berlin:20261118T063000
DTEND;TZID=Europe/Berlin:20261118T123000
LOCATION:Schrannenplatz\, Schrannenplatz\, 86633 Neuburg an der Donau
END:VEVENT
END:VCALENDAR
