BEGIN:VCALENDAR
VERSION:2.0
PRODID:-//Sabre//Sabre VObject 4.5.8//EN
CALSCALE:GREGORIAN
BEGIN:VEVENT
UID:sabre-vobject-79cfc589-32d0-4c52-96b3-6b2a2e2e74d5
DTSTAMP:20260419T154232Z
SUMMARY:Wochenmarkt
DESCRIPTION:https://regioningolstadt.com/wochenmarkt_id43355
DTSTART;TZID=Europe/Berlin:20261021T063000
DTEND;TZID=Europe/Berlin:20261021T123000
LOCATION:Schrannenplatz\, Schrannenplatz\, 86633 Neuburg an der Donau
END:VEVENT
END:VCALENDAR
