BEGIN:VCALENDAR
VERSION:2.0
PRODID:-//Sabre//Sabre VObject 4.5.8//EN
CALSCALE:GREGORIAN
BEGIN:VEVENT
UID:sabre-vobject-c38abcbf-e9f6-43d2-8905-2460891eefc1
DTSTAMP:20260420T010810Z
SUMMARY:Wochenmarkt
DESCRIPTION:https://regioningolstadt.com/wochenmarkt_id43354
DTSTART;TZID=Europe/Berlin:20261014T063000
DTEND;TZID=Europe/Berlin:20261014T123000
LOCATION:Schrannenplatz\, Schrannenplatz\, 86633 Neuburg an der Donau
END:VEVENT
END:VCALENDAR
