BEGIN:VCALENDAR
VERSION:2.0
PRODID:-//Sabre//Sabre VObject 4.5.8//EN
CALSCALE:GREGORIAN
BEGIN:VEVENT
UID:sabre-vobject-887f3607-4241-4ec2-a218-9960e8c1fbad
DTSTAMP:20260420T111357Z
SUMMARY:Wochenmarkt
DESCRIPTION:https://regioningolstadt.com/wochenmarkt_id43347
DTSTART;TZID=Europe/Berlin:20260826T063000
DTEND;TZID=Europe/Berlin:20260826T123000
LOCATION:Schrannenplatz\, Schrannenplatz\, 86633 Neuburg an der Donau
END:VEVENT
END:VCALENDAR
