BEGIN:VCALENDAR
VERSION:2.0
PRODID:-//Sabre//Sabre VObject 4.5.8//EN
CALSCALE:GREGORIAN
BEGIN:VEVENT
UID:sabre-vobject-0a5c5e99-f10e-4b0c-bb7d-795b39219b47
DTSTAMP:20260420T113207Z
SUMMARY:Wochenmarkt
DESCRIPTION:https://regioningolstadt.com/wochenmarkt_id43345
DTSTART;TZID=Europe/Berlin:20260812T063000
DTEND;TZID=Europe/Berlin:20260812T123000
LOCATION:Schrannenplatz\, Schrannenplatz\, 86633 Neuburg an der Donau
END:VEVENT
END:VCALENDAR
