BEGIN:VCALENDAR
VERSION:2.0
PRODID:-//Sabre//Sabre VObject 4.5.8//EN
CALSCALE:GREGORIAN
BEGIN:VEVENT
UID:sabre-vobject-6ba6716d-68fd-4fee-a99a-084f091a72a7
DTSTAMP:20260422T094508Z
SUMMARY:Wochenmarkt
DESCRIPTION:https://regioningolstadt.com/wochenmarkt_id43342
DTSTART;TZID=Europe/Berlin:20260722T063000
DTEND;TZID=Europe/Berlin:20260722T123000
LOCATION:Schrannenplatz\, Schrannenplatz\, 86633 Neuburg an der Donau
END:VEVENT
END:VCALENDAR
