BEGIN:VCALENDAR
VERSION:2.0
PRODID:-//Sabre//Sabre VObject 4.5.8//EN
CALSCALE:GREGORIAN
BEGIN:VEVENT
UID:sabre-vobject-f7e5c23e-5b67-4c53-83dd-4d0174910fb7
DTSTAMP:20260422T065222Z
SUMMARY:Wochenmarkt
DESCRIPTION:https://regioningolstadt.com/wochenmarkt_id43339
DTSTART;TZID=Europe/Berlin:20260701T063000
DTEND;TZID=Europe/Berlin:20260701T123000
LOCATION:Schrannenplatz\, Schrannenplatz\, 86633 Neuburg an der Donau
END:VEVENT
END:VCALENDAR
