BEGIN:VCALENDAR
VERSION:2.0
PRODID:-//Sabre//Sabre VObject 4.5.8//EN
CALSCALE:GREGORIAN
BEGIN:VEVENT
UID:sabre-vobject-b6f40064-6313-4181-9ac6-05d54c22a2d6
DTSTAMP:20260420T041020Z
SUMMARY:Wochenmarkt
DESCRIPTION:https://regioningolstadt.com/wochenmarkt_id43332
DTSTART;TZID=Europe/Berlin:20260513T063000
DTEND;TZID=Europe/Berlin:20260513T123000
LOCATION:Schrannenplatz\, Schrannenplatz\, 86633 Neuburg an der Donau
END:VEVENT
END:VCALENDAR
