BEGIN:VCALENDAR
VERSION:2.0
PRODID:-//Sabre//Sabre VObject 4.5.8//EN
CALSCALE:GREGORIAN
BEGIN:VEVENT
UID:sabre-vobject-d7931d1a-4d8d-4d48-8af8-41bce7b6c24d
DTSTAMP:20260420T012805Z
SUMMARY:Wochenmarkt
DESCRIPTION:https://regioningolstadt.com/wochenmarkt_id43331
DTSTART;TZID=Europe/Berlin:20260506T063000
DTEND;TZID=Europe/Berlin:20260506T123000
LOCATION:Schrannenplatz\, Schrannenplatz\, 86633 Neuburg an der Donau
END:VEVENT
END:VCALENDAR
