BEGIN:VCALENDAR
VERSION:2.0
PRODID:-//Sabre//Sabre VObject 4.5.8//EN
CALSCALE:GREGORIAN
BEGIN:VEVENT
UID:sabre-vobject-9bc5da1a-8e53-463b-81d7-0a5734cd14f6
DTSTAMP:20260419T122047Z
SUMMARY:Wochenmarkt
DESCRIPTION:https://regioningolstadt.com/wochenmarkt_id43329
DTSTART;TZID=Europe/Berlin:20260422T063000
DTEND;TZID=Europe/Berlin:20260422T123000
LOCATION:Schrannenplatz\, Schrannenplatz\, 86633 Neuburg an der Donau
END:VEVENT
END:VCALENDAR
