BEGIN:VCALENDAR
VERSION:2.0
PRODID:-//Sabre//Sabre VObject 4.5.8//EN
CALSCALE:GREGORIAN
BEGIN:VEVENT
UID:sabre-vobject-047e3243-876e-4be9-bb9d-3427945f7ec7
DTSTAMP:20260421T191949Z
SUMMARY:Juliusbräu Brauereifest
DESCRIPTION:https://regioningolstadt.com/juliusbraeu-brauereifest_id43212
DTSTART;TZID=Europe/Berlin:20260607T093000
DTEND;TZID=Europe/Berlin:20260607T180000
LOCATION:Juliusbräu\, Augsburger Straße B 135\, 86633 Neuburg an der Dona
 u
END:VEVENT
END:VCALENDAR
