BEGIN:VCALENDAR
VERSION:2.0
PRODID:-//Sabre//Sabre VObject 4.5.8//EN
CALSCALE:GREGORIAN
BEGIN:VEVENT
UID:sabre-vobject-6d3d606d-d371-46b3-8265-e35bbe5c98d8
DTSTAMP:20260421T191939Z
SUMMARY:Juliusbräu Brauereifest
DESCRIPTION:https://regioningolstadt.com/juliusbraeu-brauereifest_id43207
DTSTART;TZID=Europe/Berlin:20260606T170000
DURATION:PT30M
LOCATION:Juliusbräu\, Augsburger Straße B 135\, 86633 Neuburg an der Dona
 u
END:VEVENT
END:VCALENDAR
