BEGIN:VCALENDAR
VERSION:2.0
PRODID:-//Sabre//Sabre VObject 4.5.8//EN
CALSCALE:GREGORIAN
BEGIN:VEVENT
UID:sabre-vobject-1c93c188-a5fe-41aa-a018-ccd7e590179b
DTSTAMP:20260421T205400Z
SUMMARY:Tatort Hinterkaifeck - Öffentliche Führung
DESCRIPTION:https://regioningolstadt.com/tatort-hinterkaifeck-oeffentliche-
 fuehrung_id43155
DTSTART;TZID=Europe/Berlin:20260426T174500
DURATION:PT30M
LOCATION:Hinterkaifeck\, \, 86579  Waidhofen
END:VEVENT
END:VCALENDAR
