BEGIN:VCALENDAR
VERSION:2.0
PRODID:-//Sabre//Sabre VObject 4.5.8//EN
CALSCALE:GREGORIAN
BEGIN:VEVENT
UID:sabre-vobject-043b12ae-722c-480c-bc13-bc3e9d8c8675
DTSTAMP:20260420T013437Z
SUMMARY:Tatort Hinterkaifeck - Öffentliche Führung
DESCRIPTION:https://regioningolstadt.com/tatort-hinterkaifeck-oeffentliche-
 fuehrung_id43153
DTSTART;TZID=Europe/Berlin:20260412T174500
DURATION:PT30M
LOCATION:Hinterkaifeck\, \, 86579  Waidhofen
END:VEVENT
END:VCALENDAR
