BEGIN:VCALENDAR
VERSION:2.0
PRODID:-//Sabre//Sabre VObject 4.5.8//EN
CALSCALE:GREGORIAN
BEGIN:VEVENT
UID:sabre-vobject-4b68a818-c869-447e-b65a-17eec53ae16f
DTSTAMP:20260420T030251Z
SUMMARY:Auwald - Öffentliche Führung
DESCRIPTION:https://regioningolstadt.com/auwald-oeffentliche-fuehrung_id431
 52
DTSTART;TZID=Europe/Berlin:20260411T134500
DURATION:PT30M
LOCATION:86663 Neuburg\, Schloss Grünau\, Treffpunkt Parkplatz Schloss Gr
 ünau ( Kreisverkehr)\, Grünau 1\, 86633 Neuburg an der Donau
END:VEVENT
END:VCALENDAR
