BEGIN:VCALENDAR
VERSION:2.0
PRODID:-//Sabre//Sabre VObject 4.5.8//EN
CALSCALE:GREGORIAN
BEGIN:VEVENT
UID:sabre-vobject-ec9e237c-d122-48e8-87e5-7b6ac333e900
DTSTAMP:20260420T031218Z
SUMMARY:Tatort Hinterkaifeck mit Fackeln - Öffentliche Führung
DESCRIPTION:https://regioningolstadt.com/tatort-hinterkaifeck-mit-fackeln-o
 effentliche-fuehrung_id43148
DTSTART;TZID=Europe/Berlin:20260322T174500
DURATION:PT30M
LOCATION:Hinterkaifeck\, \, 86579  Waidhofen
END:VEVENT
END:VCALENDAR
