BEGIN:VCALENDAR
VERSION:2.0
PRODID:-//Sabre//Sabre VObject 4.5.8//EN
CALSCALE:GREGORIAN
BEGIN:VEVENT
UID:sabre-vobject-80414f9a-80cc-41b3-98a0-0c9af6956dbd
DTSTAMP:20260420T045536Z
SUMMARY:Wallfahrtskirche Maria Beinberg - Öffentliche Führung
DESCRIPTION:https://regioningolstadt.com/wallfahrtskirche-maria-beinberg-oe
 ffentliche-fuehrung_id43147
DTSTART;TZID=Europe/Berlin:20260321T150000
DURATION:PT30M
LOCATION:Wallfahrtskirche Maria Beinberg\, Treffpunkt unten am Parkplatz\, 
 Beinbergstraße 1\, 86565 Gachenbach
END:VEVENT
END:VCALENDAR
