BEGIN:VCALENDAR
VERSION:2.0
PRODID:-//Sabre//Sabre VObject 4.5.8//EN
CALSCALE:GREGORIAN
BEGIN:VEVENT
UID:sabre-vobject-0fe630ab-0b35-4bca-bb5e-78667fc43349
DTSTAMP:20260420T082111Z
SUMMARY:Stadtführung Schrobenhausen mit Altem Friedhof - Öffentliche Füh
 rung
DESCRIPTION:https://regioningolstadt.com/stadtfuehrung-schrobenhausen-mit-a
 ltem-friedhof-oeffentliche-fuehrung_id43144
DTSTART;TZID=Europe/Berlin:20260308T134500
DURATION:PT30M
LOCATION:86529 Schrobenhausen\, Busbahnhof\, Bürgermeister-Stocker-Ring 47
 \, 86529 Schrobenhausen
END:VEVENT
END:VCALENDAR
