BEGIN:VCALENDAR
VERSION:2.0
PRODID:-//Sabre//Sabre VObject 4.5.8//EN
CALSCALE:GREGORIAN
BEGIN:VEVENT
UID:sabre-vobject-04d7ba87-25d8-461a-9303-75420a725dc3
DTSTAMP:20260420T095902Z
SUMMARY:Tatort Hinterkaifeck mit Fackeln - Öffentliche Führung
DESCRIPTION:https://regioningolstadt.com/tatort-hinterkaifeck-mit-fackeln-o
 effentliche-fuehrung_id43143
DTSTART;TZID=Europe/Berlin:20260301T174500
DURATION:PT30M
LOCATION:Hinterkaifeck\, \, 86579  Waidhofen
END:VEVENT
END:VCALENDAR
