BEGIN:VCALENDAR
VERSION:2.0
PRODID:-//Sabre//Sabre VObject 4.5.8//EN
CALSCALE:GREGORIAN
BEGIN:VEVENT
UID:sabre-vobject-e953d765-531f-4afe-b058-8b7774d85740
DTSTAMP:20260420T113120Z
SUMMARY:Tatort Hinterkaifeck mit Fackeln - Öffentliche Führung
DESCRIPTION:https://regioningolstadt.com/tatort-hinterkaifeck-mit-fackeln-o
 effentliche-fuehrung_id43142
DTSTART;TZID=Europe/Berlin:20260222T174500
DURATION:PT30M
LOCATION:Hinterkaifeck\, \, 86579  Waidhofen
END:VEVENT
END:VCALENDAR
