BEGIN:VCALENDAR
VERSION:2.0
PRODID:-//Sabre//Sabre VObject 4.5.8//EN
CALSCALE:GREGORIAN
BEGIN:VEVENT
UID:sabre-vobject-796734d7-8ce2-47ed-818b-e7629ba8a72d
DTSTAMP:20260420T130600Z
SUMMARY:Auwald - Öffentliche Führung
DESCRIPTION:https://regioningolstadt.com/auwald-oeffentliche-fuehrung_id431
 41
DTSTART;TZID=Europe/Berlin:20260214T134500
DURATION:PT30M
LOCATION:86663 Neuburg\, Schloss Grünau\, Treffpunkt Parkplatz Schloss Gr
 ünau ( Kreisverkehr)\, Grünau 1\, 86633 Neuburg an der Donau
END:VEVENT
END:VCALENDAR
