BEGIN:VCALENDAR
VERSION:2.0
PRODID:-//Sabre//Sabre VObject 4.5.8//EN
CALSCALE:GREGORIAN
BEGIN:VEVENT
UID:sabre-vobject-9b73ba08-b857-493e-8026-2d010146350c
DTSTAMP:20260420T161340Z
SUMMARY:Stadtführung Schrobenhausen mit Altem Friedhof - Öffentliche Füh
 rung
DESCRIPTION:https://regioningolstadt.com/stadtfuehrung-schrobenhausen-mit-a
 ltem-friedhof-oeffentliche-fuehrung_id43140
DTSTART;TZID=Europe/Berlin:20260208T134500
DURATION:PT30M
LOCATION:86529 Schrobenhausen\, Busbahnhof\, Bürgermeister-Stocker-Ring 47
 \, 86529 Schrobenhausen
END:VEVENT
END:VCALENDAR
