BEGIN:VCALENDAR
VERSION:2.0
PRODID:-//Sabre//Sabre VObject 4.5.8//EN
CALSCALE:GREGORIAN
BEGIN:VEVENT
UID:sabre-vobject-9eac05b4-3226-447c-b03c-186c3dcffe0b
DTSTAMP:20260420T174934Z
SUMMARY:Tatort Hinterkaifeck Vollmond Führung mit Fackeln - Öffentliche F
 ührung
DESCRIPTION:https://regioningolstadt.com/tatort-hinterkaifeck-vollmond-fueh
 rung-mit-fackeln-oeffentliche-fuehrung_id43139
DTSTART;TZID=Europe/Berlin:20260201T174500
DURATION:PT30M
LOCATION:Hinterkaifeck\, \, 86579  Waidhofen
END:VEVENT
END:VCALENDAR
