BEGIN:VCALENDAR
VERSION:2.0
PRODID:-//Sabre//Sabre VObject 4.5.8//EN
CALSCALE:GREGORIAN
BEGIN:VEVENT
UID:sabre-vobject-cddd87bb-ee99-4fc0-a5ce-228dd594fa98
DTSTAMP:20260420T192426Z
SUMMARY:Auwald - Öffentliche Führung
DESCRIPTION:https://regioningolstadt.com/auwald-oeffentliche-fuehrung_id431
 38
DTSTART;TZID=Europe/Berlin:20260131T134500
DURATION:PT30M
LOCATION:86663 Neuburg\, Schloss Grünau\, Treffpunkt Parkplatz Schloss Gr
 ünau ( Kreisverkehr)\, Grünau 1\, 86633 Neuburg an der Donau
END:VEVENT
END:VCALENDAR
