BEGIN:VCALENDAR
VERSION:2.0
PRODID:-//Sabre//Sabre VObject 4.5.8//EN
CALSCALE:GREGORIAN
BEGIN:VEVENT
UID:sabre-vobject-0153ab7d-c85a-4eee-9227-2157a095a951
DTSTAMP:20260420T204606Z
SUMMARY:Stadtführung Schrobenhausen mit Altem Friedhof - Öffentliche Füh
 rung
DESCRIPTION:https://regioningolstadt.com/stadtfuehrung-schrobenhausen-mit-a
 ltem-friedhof-oeffentliche-fuehrung_id43136
DTSTART;TZID=Europe/Berlin:20260125T134500
DURATION:PT30M
LOCATION:86529 Schrobenhausen\, Busbahnhof\, Bürgermeister-Stocker-Ring 47
 \, 86529 Schrobenhausen
END:VEVENT
END:VCALENDAR
