BEGIN:VCALENDAR
VERSION:2.0
PRODID:-//Sabre//Sabre VObject 4.5.8//EN
CALSCALE:GREGORIAN
BEGIN:VEVENT
UID:sabre-vobject-9a9eab9b-fe06-4cd5-a3c4-670a75fcb441
DTSTAMP:20260420T222259Z
SUMMARY:Tatort Hinterkaifeck Vollmond Führung mit Fackeln - Öffentliche F
 ührung
DESCRIPTION:https://regioningolstadt.com/tatort-hinterkaifeck-vollmond-fueh
 rung-mit-fackeln-oeffentliche-fuehrung_id43135
DTSTART;TZID=Europe/Berlin:20260106T174500
DURATION:PT30M
LOCATION:Hinterkaifeck\, \, 86579  Waidhofen
END:VEVENT
END:VCALENDAR
