BEGIN:VCALENDAR
VERSION:2.0
PRODID:-//Sabre//Sabre VObject 4.5.8//EN
CALSCALE:GREGORIAN
BEGIN:VEVENT
UID:sabre-vobject-95bef7ad-c5cf-447a-82fd-144056c0f1c4
DTSTAMP:20260421T013357Z
SUMMARY:Tatort Hinterkaifeck Vollmond Führung mit Fackeln - Öffentliche F
 ührung
DESCRIPTION:https://regioningolstadt.com/tatort-hinterkaifeck-vollmond-fueh
 rung-mit-fackeln-oeffentliche-fuehrung_id43134
DTSTART;TZID=Europe/Berlin:20260103T174500
DURATION:PT30M
LOCATION:Hinterkaifeck\, \, 86579  Waidhofen
END:VEVENT
END:VCALENDAR
