BEGIN:VCALENDAR
VERSION:2.0
PRODID:-//Sabre//Sabre VObject 4.5.8//EN
CALSCALE:GREGORIAN
BEGIN:VEVENT
UID:sabre-vobject-3427748c-e533-41d4-9d9a-139b744897a3
DTSTAMP:20260421T025406Z
SUMMARY:Tatort Hinterkaifeck Vollmond Führung mit Fackel - Öffentliche F
 ührung
DESCRIPTION:https://regioningolstadt.com/tatort-hinterkaifeck-vollmond-fueh
 rung-mit-fackel-oeffentliche-fuehrung_id43133
DTSTART;TZID=Europe/Berlin:20260102T174500
DURATION:PT30M
LOCATION:Hinterkaifeck\, \, 86579  Waidhofen
END:VEVENT
END:VCALENDAR
