BEGIN:VCALENDAR
VERSION:2.0
PRODID:-//Sabre//Sabre VObject 4.5.8//EN
CALSCALE:GREGORIAN
BEGIN:VEVENT
UID:sabre-vobject-4fa33923-11d0-482a-a465-eec27e8e7091
DTSTAMP:20260419T183917Z
SUMMARY:Frühjahrsausstellung des Neuburger Kunstkreises e.V. 
DESCRIPTION:https://regioningolstadt.com/fruehjahrsausstellung-des-neuburge
 r-kunstkreises-e-v_id43121
DTSTART;TZID=Europe/Berlin:20260426T110000
DTEND;TZID=Europe/Berlin:20260426T190000
LOCATION:Städtische Galerie im Fürstengang\, Amalienstraße\, 86633 Neubu
 rg an der Donau
END:VEVENT
END:VCALENDAR
