BEGIN:VCALENDAR
VERSION:2.0
PRODID:-//Sabre//Sabre VObject 4.5.8//EN
CALSCALE:GREGORIAN
BEGIN:VEVENT
UID:sabre-vobject-180012f5-a4e8-4f7e-b86b-f0de62c77383
DTSTAMP:20260421T102028Z
SUMMARY:Frühjahrsausstellung des Neuburger Kunstkreises e.V. 
DESCRIPTION:https://regioningolstadt.com/fruehjahrsausstellung-des-neuburge
 r-kunstkreises-e-v_id43120
DTSTART;TZID=Europe/Berlin:20260419T110000
DTEND;TZID=Europe/Berlin:20260419T190000
LOCATION:Städtische Galerie im Fürstengang\, Amalienstraße\, 86633 Neubu
 rg an der Donau
END:VEVENT
END:VCALENDAR
