BEGIN:VCALENDAR
VERSION:2.0
PRODID:-//Sabre//Sabre VObject 4.5.8//EN
CALSCALE:GREGORIAN
BEGIN:VEVENT
UID:sabre-vobject-bed76595-4de7-4a23-abec-5a74e3cc0b9a
DTSTAMP:20260419T232718Z
SUMMARY:Frühjahrsausstellung des Neuburger Kunstkreises e.V. 
DESCRIPTION:https://regioningolstadt.com/fruehjahrsausstellung-des-neuburge
 r-kunstkreises-e-v_id43116
DTSTART;TZID=Europe/Berlin:20260425T110000
DTEND;TZID=Europe/Berlin:20260425T190000
LOCATION:Städtische Galerie im Fürstengang\, Amalienstraße\, 86633 Neubu
 rg an der Donau
END:VEVENT
END:VCALENDAR
