BEGIN:VCALENDAR
VERSION:2.0
PRODID:-//Sabre//Sabre VObject 4.5.8//EN
CALSCALE:GREGORIAN
BEGIN:VEVENT
UID:sabre-vobject-0e0078a9-6ea9-4a69-9332-b498d2807312
DTSTAMP:20260423T173542Z
SUMMARY:Frühjahrsausstellung des Neuburger Kunstkreises e.V. 
DESCRIPTION:https://regioningolstadt.com/fruehjahrsausstellung-des-neuburge
 r-kunstkreises-e-v_id43111
DTSTART;TZID=Europe/Berlin:20260424T170000
DTEND;TZID=Europe/Berlin:20260424T190000
LOCATION:Städtische Galerie im Fürstengang\, Amalienstraße\, 86633 Neubu
 rg an der Donau
END:VEVENT
END:VCALENDAR
