BEGIN:VCALENDAR
VERSION:2.0
PRODID:-//Sabre//Sabre VObject 4.5.8//EN
CALSCALE:GREGORIAN
BEGIN:VEVENT
UID:sabre-vobject-61689160-9182-4524-9793-fef71be5c66c
DTSTAMP:20260420T113209Z
SUMMARY:Jahresausstellung des Neuburger Kunstkreises e.V.
DESCRIPTION:https://regioningolstadt.com/jahresausstellung-des-neuburger-ku
 nstkreises-e-v_id43107
DTSTART;TZID=Europe/Berlin:20260917T170000
DTEND;TZID=Europe/Berlin:20260917T190000
END:VEVENT
END:VCALENDAR
