BEGIN:VCALENDAR
VERSION:2.0
PRODID:-//Sabre//Sabre VObject 4.5.8//EN
CALSCALE:GREGORIAN
BEGIN:VEVENT
UID:sabre-vobject-8cc9a550-b083-4498-ae84-3a56d1c25d83
DTSTAMP:20260420T075743Z
SUMMARY:Jahresausstellung des Neuburger Kunstkreises e.V.
DESCRIPTION:https://regioningolstadt.com/jahresausstellung-des-neuburger-ku
 nstkreises-e-v_id43104
DTSTART;TZID=Europe/Berlin:20260913T100000
DTEND;TZID=Europe/Berlin:20260913T190000
END:VEVENT
END:VCALENDAR
