BEGIN:VCALENDAR
VERSION:2.0
PRODID:-//Sabre//Sabre VObject 4.5.8//EN
CALSCALE:GREGORIAN
BEGIN:VEVENT
UID:sabre-vobject-a344c4a6-8978-4bf4-bcc4-98d399d76514
DTSTAMP:20260420T075615Z
SUMMARY:Jahresausstellung des Neuburger Kunstkreises e.V.
DESCRIPTION:https://regioningolstadt.com/jahresausstellung-des-neuburger-ku
 nstkreises-e-v_id43102
DTSTART;TZID=Europe/Berlin:20260919T100000
DTEND;TZID=Europe/Berlin:20260919T190000
END:VEVENT
END:VCALENDAR
