BEGIN:VCALENDAR
VERSION:2.0
PRODID:-//Sabre//Sabre VObject 4.5.8//EN
CALSCALE:GREGORIAN
BEGIN:VEVENT
UID:sabre-vobject-52b87f4f-0c93-46e9-b08a-cf010a16eaea
DTSTAMP:20260420T075616Z
SUMMARY:Jahresausstellung des Neuburger Kunstkreises e.V.
DESCRIPTION:https://regioningolstadt.com/jahresausstellung-des-neuburger-ku
 nstkreises-e-v_id43099
DTSTART;TZID=Europe/Berlin:20260918T170000
DTEND;TZID=Europe/Berlin:20260918T190000
END:VEVENT
END:VCALENDAR
