BEGIN:VCALENDAR
VERSION:2.0
PRODID:-//Sabre//Sabre VObject 4.5.8//EN
CALSCALE:GREGORIAN
BEGIN:VEVENT
UID:sabre-vobject-7cdf2d21-867e-4bef-a367-df1417052646
DTSTAMP:20260420T094839Z
SUMMARY:Jahresausstellung des Neuburger Kunstkreises e.V.
DESCRIPTION:https://regioningolstadt.com/jahresausstellung-des-neuburger-ku
 nstkreises-e-v_id43096
DTSTART;TZID=Europe/Berlin:20260904T170000
DTEND;TZID=Europe/Berlin:20260904T190000
END:VEVENT
END:VCALENDAR
