BEGIN:VCALENDAR
VERSION:2.0
PRODID:-//Sabre//Sabre VObject 4.5.8//EN
CALSCALE:GREGORIAN
BEGIN:VEVENT
UID:sabre-vobject-9d23f01b-2173-4ddf-87ba-b46ff066f6cf
DTSTAMP:20260421T130436Z
SUMMARY:Ensemble del Arte | Werke von Grieg und Haydn
DESCRIPTION:https://regioningolstadt.com/ensemble-del-arte-werke-von-grieg-
 und-haydn_id42514
DTSTART;TZID=Europe/Berlin:20260516T200000
DURATION:PT30M
LOCATION:Kongregationssaal\, Jacob-Balde-Platz\, 86633 Neuburg an der Donau
END:VEVENT
END:VCALENDAR
