BEGIN:VCALENDAR
VERSION:2.0
PRODID:-//Sabre//Sabre VObject 4.5.8//EN
CALSCALE:GREGORIAN
BEGIN:VEVENT
UID:sabre-vobject-5e0e9df3-655c-4e78-a959-cd847fc1efff
DTSTAMP:20260421T095134Z
SUMMARY:Wunderheiler
DESCRIPTION:https://regioningolstadt.com/wunderheiler_id42260
DTSTART;TZID=Europe/Berlin:20260419T200000
DURATION:PT30M
LOCATION:Stadttheater\, Residenzstraße A67\, 86633 Neuburg an der Donau
END:VEVENT
END:VCALENDAR
