BEGIN:VCALENDAR
VERSION:2.0
PRODID:-//Sabre//Sabre VObject 4.5.8//EN
CALSCALE:GREGORIAN
BEGIN:VEVENT
UID:sabre-vobject-bc0125fd-c7c0-4aad-b7fd-09e66d4fcf3b
DTSTAMP:20260419T232709Z
SUMMARY:Freiluft-Training (Gymnastik)
DESCRIPTION:https://regioningolstadt.com/freiluft-training-gymnastik_id4195
 3
DTSTART;TZID=Europe/Berlin:20260421T100000
DTEND;TZID=Europe/Berlin:20260421T104500
LOCATION:Bürgerhaus Ostend\, Berliner Straße 164\, 86633 Neuburg an der D
 onau
END:VEVENT
END:VCALENDAR
