BEGIN:VCALENDAR
VERSION:2.0
PRODID:-//Sabre//Sabre VObject 4.5.8//EN
CALSCALE:GREGORIAN
BEGIN:VEVENT
UID:sabre-vobject-9cdb663d-4c87-4c46-bb9f-20230b959da4
DTSTAMP:20260422T095138Z
SUMMARY:Geführte Sternschanzen-Wanderung
DESCRIPTION:https://regioningolstadt.com/gefuehrte-sternschanzen-wanderung_
 id41943
DTSTART;TZID=Europe/Berlin:20260718T133000
DURATION:PT30M
END:VEVENT
END:VCALENDAR
