BEGIN:VCALENDAR
VERSION:2.0
PRODID:-//Sabre//Sabre VObject 4.5.8//EN
CALSCALE:GREGORIAN
BEGIN:VEVENT
UID:sabre-vobject-bae70278-1a7a-4181-8214-0fea96866425
DTSTAMP:20260422T134013Z
SUMMARY:Auf den Spuren der Kurfürstin - Witwe Maria Leopoldine Rundgang vo
 n Stepperg zum Antoniberg - Öffentliche Führung
DESCRIPTION:https://regioningolstadt.com/auf-den-spuren-der-kurfuerstin-wit
 we-maria-leopoldine-rundgang-von-stepperg-zum-antoniberg-oeffentliche-fueh
 rung_id41891
DTSTART;TZID=Europe/Berlin:20251012T140000
DTEND;TZID=Europe/Berlin:20251012T160000
LOCATION:Stepperg\, Treffpunkt Kirche St. Michael
END:VEVENT
END:VCALENDAR
