BEGIN:VCALENDAR
VERSION:2.0
PRODID:-//Sabre//Sabre VObject 4.5.8//EN
CALSCALE:GREGORIAN
BEGIN:VEVENT
UID:sabre-vobject-abef88a2-30b3-435a-9a8e-9166ed86adf5
DTSTAMP:20260423T070934Z
SUMMARY:Schloss Sandizell mit Asam Kirche - Öffentliche Führung
DESCRIPTION:https://regioningolstadt.com/schloss-sandizell-mit-asam-kirche-
 oeffentliche-fuehrung_id41890
DTSTART;TZID=Europe/Berlin:20250920T140000
DTEND;TZID=Europe/Berlin:20250920T160000
LOCATION:86529 Schrobenhausen\, Schloss Sandizell\, Schloßstraße 4\, 8652
 9 Schrobenhausen
END:VEVENT
END:VCALENDAR
